BEGIN:VCALENDAR
PRODID:-//eluceo/ical//2.0/EN
VERSION:2.0
CALSCALE:GREGORIAN
BEGIN:VEVENT
UID:78fda1bd232e797a5956a7cd1c94fc65
DTSTAMP:20260424T085515Z
SUMMARY:Führung durch das Alte Rathaus
DESCRIPTION:Referenten/innen: 
URL:https://wien-hofburg-ststephan.rotaract.at/de/agenda/show/138741
DTSTART;TZID=Europe/Zurich:20250528T183000
DTEND;TZID=Europe/Zurich:20250528T203000
LOCATION:Altes Rathaus Wipplingerstrasse 6/8\, 1010 Wien
CATEGORIES:Rotaract
END:VEVENT
BEGIN:VTIMEZONE
TZID:Europe/Zurich
BEGIN:DAYLIGHT
DTSTART:20250528T183000
TZNAME:CEST
TZOFFSETTO:+0200
TZOFFSETFROM:+0200
END:DAYLIGHT
END:VTIMEZONE
END:VCALENDAR
